BEGIN:VCALENDAR
VERSION:2.0
PRODID:-//Trident Concepts - ECPv6.15.20//NONSGML v1.0//EN
CALSCALE:GREGORIAN
METHOD:PUBLISH
X-WR-CALNAME:Trident Concepts
X-ORIGINAL-URL:https://tridentconcepts.com
X-WR-CALDESC:Events for Trident Concepts
REFRESH-INTERVAL;VALUE=DURATION:PT1H
X-Robots-Tag:noindex
X-PUBLISHED-TTL:PT1H
BEGIN:VTIMEZONE
TZID:America/Chicago
BEGIN:DAYLIGHT
TZOFFSETFROM:-0600
TZOFFSETTO:-0500
TZNAME:CDT
DTSTART:20240310T080000
END:DAYLIGHT
BEGIN:STANDARD
TZOFFSETFROM:-0500
TZOFFSETTO:-0600
TZNAME:CST
DTSTART:20241103T070000
END:STANDARD
BEGIN:DAYLIGHT
TZOFFSETFROM:-0600
TZOFFSETTO:-0500
TZNAME:CDT
DTSTART:20250309T080000
END:DAYLIGHT
BEGIN:STANDARD
TZOFFSETFROM:-0500
TZOFFSETTO:-0600
TZNAME:CST
DTSTART:20251102T070000
END:STANDARD
BEGIN:DAYLIGHT
TZOFFSETFROM:-0600
TZOFFSETTO:-0500
TZNAME:CDT
DTSTART:20260308T080000
END:DAYLIGHT
BEGIN:STANDARD
TZOFFSETFROM:-0500
TZOFFSETTO:-0600
TZNAME:CST
DTSTART:20261101T070000
END:STANDARD
END:VTIMEZONE
BEGIN:VEVENT
DTSTART;TZID=America/Chicago:20251011T080000
DTEND;TZID=America/Chicago:20251012T170000
DTSTAMP:20260424T085323
CREATED:20241230T173157Z
LAST-MODIFIED:20250605T163408Z
UID:18086-1760169600-1760288400@tridentconcepts.com
SUMMARY:Advanced Rifle Movement | NH
DESCRIPTION:Register Now for Advanced Rifle Movement\nCourse Description:\nThe Advanced Rifle Movement (306) is an advanced rifle course designed to develop a mobile rifle firing platform. Students will learn to effectively engage targets on the move from 5-25 yards by improving their mobility and stability while shooting. Direction of movement will be forward\, rearward\, laterally and linearly with a heavy emphasis on situational awareness and muzzle discipline. Addressing targets  while moving in various directions along with pivots and turns to safely engage targets in an asymmetrical landscape. Close range shooting focuses on using an acceptable sight picture while long range shooting focuses on the tactical imperative. \nSubjects in the Advanced rifle Movement include types of movement\, directions of movement\, movement techniques\, acceptable sight picture theory and trigger control for movement. A major objective is the ability to move dynamically while engaging targets effectively regardless of range measured against time and accuracy. Supporting objectives include: athletic shooting stance\, rigid gun mount\, movement speed variants and sight misalignment demonstrations. \nGear List:\n\nTactical rifle (red dot sight & adjustable sling recommended)\nDefensive pistol (red dot sight optional*)\n1\,000 rounds of factory pistol ammunition\n5x rifle magazines minimum\n2x pistol magazines\n5x inert rifle training rounds\nTraining uniform: long pants\, comfortable shirt\, athletic shoes\, ball cap and gloves\nBasic loadout: rigid belt\, on the waistband (OWB) holster\, magazine pouches\, dump pouch and lightweight chest rig (optional)\nClear/tinted wrap around ballistic eye protection\nHearing protection (electronic recommended)\nMulti-tool\nHandheld flashlight\nElbow/knee pads or shooting pad (optional)\nWater\, snacks\, sunscreen and appropriate inclement weather clothing\nFirearm cleaning kit and quality lubrication\nOpen mind\n\n*Students are welcome to use RDS equipped pistols\, but must ensure they are properly zeroed. Recommended zero distance is 25 yards for optimal performance\, but regardless students must know their impacts at ranges from 0-25 yards.  \nCourse Prerequisites:\nBasic Rifle 1 or similar. The below drills are suggested as minimum skill requirements to meet the prerequisites. All drills are shot starting from the low ready position of at least 45 degrees downward. The recommended target is the TRICON TCT-MK4 available from Action Target or TRICON B8 printable target. \n\nRifle Standard Alpha: at the 25 yard line\, fire 10 rounds (9 reload 1) in 12 seconds or less. Must be below par and score 80/100 points or higher.\nRifle Standard Hotel: at the 25 yard line\, fire 4 rounds\, go kneeling and fire 2 rounds 12 seconds or less. Must be below par with no more than one miss.\nRifle Standard Juliet: at the 100 yard line\, fire 10 rounds from any position in 60 seconds or less. Must be below par and score 80/100 or higher.\n\nWant to see other classes coming up this year? Check out the Class Schedule.
URL:https://tridentconcepts.com/class/advanced-rifle-movement-nh/
LOCATION:NH | SIG SAUER Academy\, 2216\, 233 Exeter Rd\, Epping\, NH\, 03042\, United States
CATEGORIES:Rifle Classes
ATTACH;FMTTYPE=image/webp:https://tridentconcepts.com/wp-content/uploads/2024/12/nh.webp
ORGANIZER;CN="Trident Concepts":MAILTO:admin@tridentconcepts.com
END:VEVENT
END:VCALENDAR