BEGIN:VCALENDAR
VERSION:2.0
PRODID:-//Trident Concepts - ECPv6.15.20//NONSGML v1.0//EN
CALSCALE:GREGORIAN
METHOD:PUBLISH
X-WR-CALNAME:Trident Concepts
X-ORIGINAL-URL:https://tridentconcepts.com
X-WR-CALDESC:Events for Trident Concepts
REFRESH-INTERVAL;VALUE=DURATION:PT1H
X-Robots-Tag:noindex
X-PUBLISHED-TTL:PT1H
BEGIN:VTIMEZONE
TZID:America/Chicago
BEGIN:DAYLIGHT
TZOFFSETFROM:-0600
TZOFFSETTO:-0500
TZNAME:CDT
DTSTART:20250309T080000
END:DAYLIGHT
BEGIN:STANDARD
TZOFFSETFROM:-0500
TZOFFSETTO:-0600
TZNAME:CST
DTSTART:20251102T070000
END:STANDARD
BEGIN:DAYLIGHT
TZOFFSETFROM:-0600
TZOFFSETTO:-0500
TZNAME:CDT
DTSTART:20260308T080000
END:DAYLIGHT
BEGIN:STANDARD
TZOFFSETFROM:-0500
TZOFFSETTO:-0600
TZNAME:CST
DTSTART:20261101T070000
END:STANDARD
BEGIN:DAYLIGHT
TZOFFSETFROM:-0600
TZOFFSETTO:-0500
TZNAME:CDT
DTSTART:20270314T080000
END:DAYLIGHT
BEGIN:STANDARD
TZOFFSETFROM:-0500
TZOFFSETTO:-0600
TZNAME:CST
DTSTART:20271107T070000
END:STANDARD
END:VTIMEZONE
BEGIN:VEVENT
DTSTART;TZID=America/Chicago:20261121T080000
DTEND;TZID=America/Chicago:20261122T170000
DTSTAMP:20260424T165048
CREATED:20260108T140659Z
LAST-MODIFIED:20260115T155938Z
UID:18588-1795248000-1795366800@tridentconcepts.com
SUMMARY:Active Shooter Readiness | AZ
DESCRIPTION:Register Now for Active Shooter Readiness\nCourse Description:\nOur 2-day Active Shooter Readiness (404) is an advanced\, high-intensity firearms training course designed for concealed carriers\, law enforcement\, first responders\, security professionals\, and responsible armed citizens who may face a deadly force encounter during an active shooter event. \nDesigned for real-world violence\, this course emphasizes active shooter readiness through surgical shooting\, dynamic movement\, long range hand-gunnning\, cover use\, and time-compressed decision-making. Students build the technical and mental skills needed to perform under extreme pressure and respond decisively\, lawfully\, and effectively to protect and preserve innocent lives. \nCourse Highlights\n\nDraw and fire from concealment with precision under strict time constraints\nUse cover and concealment effectively to minimize exposure and increase survivability\nEngage while moving—advancing\, retreating\, and performing lateral movement drills\nMake accurate long-range shots at 25–50+ yards\, replicating real distances in schools\, malls\, or large public spaces\nEstablish defensive positions and maintain control of the scene until law enforcement arrives\nCommunicate safely and clearly with first responders under stress*\nRender immediate lifesaving aid\, including bleeding control and casualty management\, when safe to do so*\n\n* where time and location allow \nTraining Methods\nInstruction combines live-fire exercises\, scenario-based simulations\, and stress-inoculation drills to enhance decision-making\, accuracy\, and composure. Each scenario reinforces judgment\, accountability\, and lawful use of deadly force. \nOutcome\nBy course completion\, students will have the situational awareness\, tactical ability\, and post-incident response skills necessary to act decisively and responsibly in an active shooter attack. \n\nRequired Gear\n\n\nDuty or carry pistol (minimum three magazines)\nDuty or concealed-carry holster (safe\, secure\, and right for your firearm)\n1\,000 rounds of primary pistol ammunition\nOptional backup pistol with 100 rounds\nQuality gun belt and mag pouches\nEye and ear protection (wrap-around ballistic lenses recommended)\nFirst Aid Kit (IFAK) with tourniquet and bleeding control supplies\nCleaning kit & quality lubrication\nWeather-appropriate clothing and footwear\nNotebook\, and writing materials\nWater\, snacks\, sunscreen\, and personal gear\n\nCourse Prerequisites\nThis is an advanced-level course. Students must show high level of safety\, strong firearm handling and marksmanship fundamentals before attending. \n\nPrior formal pistol training (intermediate or advanced level) with a recommended 1\,000+ rounds of recent live-fire experience\nProven ability to safely draw from concealment and engage targets accurately under time pressure (students may elect to train from open carry)\nFamiliarity with cover usage\, reloads\, and malfunction clearance\nDemonstrated ability to safely shoot\, move\, and communicate on a live-fire range while following complex instructions\nMust have a valid concealed carry permit or equivalent law enforcement/military credentials\n\nTactical Pistol 2 or similar. The below drills are suggested as minimum skill requirements to meet the prerequisites. All drills are shot using primary carry firearm from the holster. The recommended target is the TRICON TCT-MK4 available from Action Target or TRICON B8 target. \n\nPistol Standard Xray 2; at the 25 yard line\, draw and fire 6 rounds\, reload and go kneeling to fire 4 rounds in 15 seconds. Must be below par and score 70/100 or higher.\nPistol Standard Bravo; at the 10 yard line\, draw and fire 10 rounds (9 reload 1) in 15 seconds. Must be below par and score 70/100 or higher.\nPistol Standard Romeo; at the 25 yard line\, from the holster fire 10 round with a 20 second par time. Must be below par and score 70/100 or higher.\n\nRegistration fee does not include any associated range fees. \nWant to see other classes coming up this year? Check out the Class Schedule.
URL:https://tridentconcepts.com/class/asr-261121-az/
LOCATION:AZ | Ben Avery Shooting Facility\, 4044 W Black Canyon Blvd\, Phoenix\, AZ\, 85086\, United States
CATEGORIES:Concealed Carry,Pistol Classes,Tactical Training
ATTACH;FMTTYPE=image/webp:https://tridentconcepts.com/wp-content/uploads/2025/05/az.webp
END:VEVENT
END:VCALENDAR