BEGIN:VCALENDAR
VERSION:2.0
PRODID:-//Trident Concepts - ECPv6.15.20//NONSGML v1.0//EN
CALSCALE:GREGORIAN
METHOD:PUBLISH
X-ORIGINAL-URL:https://tridentconcepts.com
X-WR-CALDESC:Events for Trident Concepts
REFRESH-INTERVAL;VALUE=DURATION:PT1H
X-Robots-Tag:noindex
X-PUBLISHED-TTL:PT1H
BEGIN:VTIMEZONE
TZID:America/Chicago
BEGIN:DAYLIGHT
TZOFFSETFROM:-0600
TZOFFSETTO:-0500
TZNAME:CDT
DTSTART:20250309T080000
END:DAYLIGHT
BEGIN:STANDARD
TZOFFSETFROM:-0500
TZOFFSETTO:-0600
TZNAME:CST
DTSTART:20251102T070000
END:STANDARD
BEGIN:DAYLIGHT
TZOFFSETFROM:-0600
TZOFFSETTO:-0500
TZNAME:CDT
DTSTART:20260308T080000
END:DAYLIGHT
BEGIN:STANDARD
TZOFFSETFROM:-0500
TZOFFSETTO:-0600
TZNAME:CST
DTSTART:20261101T070000
END:STANDARD
BEGIN:DAYLIGHT
TZOFFSETFROM:-0600
TZOFFSETTO:-0500
TZNAME:CDT
DTSTART:20270314T080000
END:DAYLIGHT
BEGIN:STANDARD
TZOFFSETFROM:-0500
TZOFFSETTO:-0600
TZNAME:CST
DTSTART:20271107T070000
END:STANDARD
END:VTIMEZONE
BEGIN:VEVENT
DTSTART;TZID=America/Chicago:20260411T080000
DTEND;TZID=America/Chicago:20260412T170000
DTSTAMP:20260424T071452
CREATED:20250214T223511Z
LAST-MODIFIED:20251221T114802Z
UID:18006-1775894400-1776013200@tridentconcepts.com
SUMMARY:Tactical Pistol 2 | TX
DESCRIPTION:Register Now for Tactical Pistol 2\nCourse Description:\nThe Tactical Pistol 2 (201) is a 2-day intermediate pistol course designed to equip the modern gunfighter with shooting skills necessary for close range defensive settings. In this intermediate pistol course\, students learn the essential pistol skills from 0 to 25 yards. Close range shooting will focus on speed\, while distance shooting will focus on accuracy. Students regularly face challenging drills under pressure to evaluate knowledge and application. Subjects covered include combat marksmanship\, holster drawstroke\, gun handling and multiple threats. A major class objective for Tactical Pistol 2 is a rapid drawstroke to deliver accurate fire at close ranges\, measured against time and accuracy standards. Additional subjects include shooter diagnostics\, movement\, strong hand only and ammunition management. \nGear & Equipment:\n\nDuty pistol\, 9mm (red dot sight optional*)\n1\,000 rounds of training ammunition\n5 x pistol magazines (8 magazines for single stacks)\n5 x inert training rounds\nRange attire: long pants\, comfortable shirt\, athletic shoes and ball cap\nBasic loadout: rigid belt\, on the waistband (OWB) holster\, magazine pouches and dump pouch (optional)\nHandheld flashlight\nMulti-tool device\nWrap around ballistic eye protection\nHearing protection\nWater\, snacks\, sunscreen and appropriate inclement weather clothing\nFirearms cleaning kit and quality lubrication\nNotebook and pencil\nOpen mind\n\n*Students are welcome to use RDS equipped pistols\, but must ensure they are properly zeroed. Recommended zero distance is 25 yards for optimal performance\, but regardless students must know their impacts at ranges from 0-25 yards.  \nWant to see other classes coming up this year? Check out the Class Schedule.
URL:https://tridentconcepts.com/class/tp2-260418-tx/
LOCATION:TX | UpTex Shooting Range\, 30°00'41.6"N 97°15'37.2"W
CATEGORIES:Pistol Classes
ATTACH;FMTTYPE=image/webp:https://tridentconcepts.com/wp-content/uploads/2023/07/tx.webp
ORGANIZER;CN="Trident Concepts":MAILTO:admin@tridentconcepts.com
END:VEVENT
END:VCALENDAR