BEGIN:VCALENDAR
VERSION:2.0
PRODID:-//Trident Concepts - ECPv6.15.20//NONSGML v1.0//EN
CALSCALE:GREGORIAN
METHOD:PUBLISH
X-WR-CALNAME:Trident Concepts
X-ORIGINAL-URL:https://tridentconcepts.com
X-WR-CALDESC:Events for Trident Concepts
REFRESH-INTERVAL;VALUE=DURATION:PT1H
X-Robots-Tag:noindex
X-PUBLISHED-TTL:PT1H
BEGIN:VTIMEZONE
TZID:America/Chicago
BEGIN:DAYLIGHT
TZOFFSETFROM:-0600
TZOFFSETTO:-0500
TZNAME:CDT
DTSTART:20250309T080000
END:DAYLIGHT
BEGIN:STANDARD
TZOFFSETFROM:-0500
TZOFFSETTO:-0600
TZNAME:CST
DTSTART:20251102T070000
END:STANDARD
BEGIN:DAYLIGHT
TZOFFSETFROM:-0600
TZOFFSETTO:-0500
TZNAME:CDT
DTSTART:20260308T080000
END:DAYLIGHT
BEGIN:STANDARD
TZOFFSETFROM:-0500
TZOFFSETTO:-0600
TZNAME:CST
DTSTART:20261101T070000
END:STANDARD
BEGIN:DAYLIGHT
TZOFFSETFROM:-0600
TZOFFSETTO:-0500
TZNAME:CDT
DTSTART:20270314T080000
END:DAYLIGHT
BEGIN:STANDARD
TZOFFSETFROM:-0500
TZOFFSETTO:-0600
TZNAME:CST
DTSTART:20271107T070000
END:STANDARD
END:VTIMEZONE
BEGIN:VEVENT
DTSTART;TZID=America/Chicago:20260919T080000
DTEND;TZID=America/Chicago:20260920T170000
DTSTAMP:20260424T071737
CREATED:20251218T173715Z
LAST-MODIFIED:20251218T174926Z
UID:18409-1789804800-1789923600@tridentconcepts.com
SUMMARY:Tactical Rifle 2 | TX
DESCRIPTION:Register Now for Tactical Rifle 2\n\n\n\nCourse Description:\nThe Tactical Rifle 2 (203) is a 2-day intermediate rifle course designed to equip the modern rifleman with shooting skills necessary for close range urban defensive settings. In this intermediate rifle course\, students learn essential rifle skills & standards from 5 to 50 yards. Close range shooting will focus on speed\, while mid-range shooting will focus on accuracy. Students will constantly be exposed to challenging drills designed to shoot under pressure. Subjects covered include: proper zeroing procedures\, shooting positions\, gun handling and combat marksmanship. A major objective of the Tactical Rifle 2 is the ability to mount the rifle quickly to deliver effective fire at urban distances measured against time and accuracy standards. Additional subjects include shooter diagnostics\, surgical shooting\, movement\, use of cover and ammunition management. \nGear & Equipment:\n\nAR15/M4 rifle/carbine\nAdjustable rifle sling\nRed dot sight or low powered variable optic\nDefensive pistol\n1\,000 rounds of factory rifle ammunition (500 rounds minimum)\n50 rounds of factory pistol ammunition\n5 x rifle magazines minimum\n5 x inert rifle training rounds\n2 x pistol magazines\nRange attire: long pants\, comfortable shirt\, athletic shoes and ball cap\nElbow/knee pads or shooting pad (optional)\nBasic loadout: rigid belt\, on the waistband (OWB) holster\, magazine pouches and dump pouch\nChest rig capable of holding 4 rifle magazines\nHandheld flashlight\nMulti-tool\nClear/tinted wrap around ballistic eye protection\nHearing protection\nWater\, snacks\, sunscreen and appropriate inclement weather clothing\nFirearms cleaning kit and quality lubrication\nNotebook and pencil\nOpen mind\n\nCourse Prerequisites:\nBasic Rifle 1 or similar. The below drills are suggested as minimum skill requirements to meet the prerequisites. All drills are shot starting from the low ready position of at least 45 degrees downward. The recommended target is the TRICON TCT-MK4 available from Action Target or TRICON B8 printable target. \n\nRifle Standards Alpha: at the 25 yard line\, fire 10 rounds (9 reload 1) in 15 seconds or less. Must be below par and score 70/100 points or higher.\nRifle Standards Hotel: at the 25 yard line\, fire 4 rounds\, go kneeling and fire 2 rounds 12 seconds or less. Must be below par with no more than one miss.\nRifle Standards Juliet: at the 100 yard line\, fire 10 rounds from any position in 60 seconds or less. Must be below par and score 70/100 or higher.\n\nRegistration fee does not include any associated range fees.  \n\nWant to see other classes coming up this year? Check out the Class Schedule.
URL:https://tridentconcepts.com/class/tr2-260919-tx/
LOCATION:TX | UpTex Shooting Range\, 30°00'41.6"N 97°15'37.2"W
CATEGORIES:Rifle Classes
ATTACH;FMTTYPE=image/webp:https://tridentconcepts.com/wp-content/uploads/2023/07/tx.webp
ORGANIZER;CN="Trident Concepts":MAILTO:admin@tridentconcepts.com
END:VEVENT
END:VCALENDAR